BEGIN:VCALENDAR
VERSION:2.0
PRODID:-//QC Community Connect - ECPv6.15.11//NONSGML v1.0//EN
CALSCALE:GREGORIAN
METHOD:PUBLISH
X-WR-CALNAME:QC Community Connect
X-ORIGINAL-URL:https://qccommunityconnect.org
X-WR-CALDESC:Events for QC Community Connect
REFRESH-INTERVAL;VALUE=DURATION:PT1H
X-Robots-Tag:noindex
X-PUBLISHED-TTL:PT1H
BEGIN:VTIMEZONE
TZID:UTC
BEGIN:STANDARD
TZOFFSETFROM:+0000
TZOFFSETTO:+0000
TZNAME:UTC
DTSTART:20220101T000000
END:STANDARD
END:VTIMEZONE
BEGIN:VEVENT
DTSTART;TZID=UTC:20230914T080000
DTEND;TZID=UTC:20230915T170000
DTSTAMP:20260422T074850
CREATED:20230615T194626Z
LAST-MODIFIED:20230913T201605Z
UID:182-1694678400-1694797200@qccommunityconnect.org
SUMMARY:2023 Southeast Community Health Worker Summit
DESCRIPTION:Connect\, Engage\, and Inspire!  The annual summit provides a space for individuals within the CHW Network to gather together to acknowledge the impact of the work they do in their communities\, share best practices\, and address challenges and barriers.Hilton Charlotte Airport – 2800 Coliseum Centre Dr. Charlotte\, NC 28217 \n\n\n\nFind more details about this event here!
URL:https://qccommunityconnect.org/events/2023-southeast-community-health-worker-summit/
LOCATION:North Carolina
END:VEVENT
END:VCALENDAR