BEGIN:VCALENDAR
VERSION:2.0
PRODID:-//QC Community Connect - ECPv6.15.11//NONSGML v1.0//EN
CALSCALE:GREGORIAN
METHOD:PUBLISH
X-ORIGINAL-URL:https://qccommunityconnect.org
X-WR-CALDESC:Events for QC Community Connect
REFRESH-INTERVAL;VALUE=DURATION:PT1H
X-Robots-Tag:noindex
X-PUBLISHED-TTL:PT1H
BEGIN:VTIMEZONE
TZID:UTC
BEGIN:STANDARD
TZOFFSETFROM:+0000
TZOFFSETTO:+0000
TZNAME:UTC
DTSTART:20220101T000000
END:STANDARD
END:VTIMEZONE
BEGIN:VEVENT
DTSTART;TZID=UTC:20231109T093000
DTEND;TZID=UTC:20231109T143000
DTSTAMP:20260422T044301
CREATED:20230913T161815Z
LAST-MODIFIED:20231026T180246Z
UID:386-1699522200-1699540200@qccommunityconnect.org
SUMMARY:2023 Mecklenburg County's Community Health Worker Initiative Fall Biannual Forum
DESCRIPTION:BACK BY POPULAR DEMAND! \n\n\n\nMecklenburg County’s Community Health Worker Initiative will host its second network meeting convening all partners in the CHW ecosystem\, with the purpose to: (1) understand how state and local partners are strengthening the CHW workforce; (2) review and approve the Mecklenburg County Community Health Worker Initiative Comprehensive Action Plan; and (3) learn how Mecklenburg County CHWs engage with their communities to improve health equity. Lunch will be provided.  \n\n\n\nRegister below to confirm your attendance!
URL:https://qccommunityconnect.org/events/2023-mecklenburg-countys-community-health-worker-fall-biannual-forum/
LOCATION:Goodwill Opportunity Campus\, 5301 Wilkinson Blvd\, Charlotte\, North Carolina\, 28208\, United States
ATTACH;FMTTYPE=image/png:https://qccommunityconnect.org/wp-content/uploads/2023/09/2023-CHWI-Biannual-Forum.png
END:VEVENT
END:VCALENDAR