BEGIN:VCALENDAR
VERSION:2.0
PRODID:-//QC Community Connect - ECPv6.15.11//NONSGML v1.0//EN
CALSCALE:GREGORIAN
METHOD:PUBLISH
X-WR-CALNAME:QC Community Connect
X-ORIGINAL-URL:https://qccommunityconnect.org
X-WR-CALDESC:Events for QC Community Connect
REFRESH-INTERVAL;VALUE=DURATION:PT1H
X-Robots-Tag:noindex
X-PUBLISHED-TTL:PT1H
BEGIN:VTIMEZONE
TZID:UTC
BEGIN:STANDARD
TZOFFSETFROM:+0000
TZOFFSETTO:+0000
TZNAME:UTC
DTSTART:20230101T000000
END:STANDARD
END:VTIMEZONE
BEGIN:VEVENT
DTSTART;TZID=UTC:20240305T120000
DTEND;TZID=UTC:20240305T130000
DTSTAMP:20260421T230311
CREATED:20240221T201255Z
LAST-MODIFIED:20240221T201615Z
UID:891-1709640000-1709643600@qccommunityconnect.org
SUMMARY:Resource Roundup Session
DESCRIPTION:Join Queen City Community Connect Coalition for its first ever Resource Roundup Session! The purpose of Resource Roundups is for a dynamic exchange designed for Community Health Workers (CHWs) to foster resource-sharing and collaborating. During Resource Roundup sessions with QC4\, CHWs can share valuable resources they’ve discovered. Additionally\, CHWs can express their resource needs\, creating a collaborative exchange that strengthens the collective knowledge base and empowers CHWs to better serve their communities. This aims to enhance collaboration\, streamline information flow\, and ultimately contribute to more effective community health work.  \n\n\n\nJoin us!\n\n\n\nResource Theme: Housing\n\n\n\n\nEmail CHWI@MeckNC.gov to receive your calendar invite now! \n\n\n\nThis is a virtual event that will be hosted on MS Teams.
URL:https://qccommunityconnect.org/events/resource-roundup-session/
LOCATION:North Carolina
ATTACH;FMTTYPE=image/png:https://qccommunityconnect.org/wp-content/uploads/2024/02/QC4-Resource-Roundup-Flyer.png
END:VEVENT
END:VCALENDAR