BEGIN:VCALENDAR
VERSION:2.0
PRODID:-//QC Community Connect - ECPv6.15.11//NONSGML v1.0//EN
CALSCALE:GREGORIAN
METHOD:PUBLISH
X-WR-CALNAME:QC Community Connect
X-ORIGINAL-URL:https://qccommunityconnect.org
X-WR-CALDESC:Events for QC Community Connect
REFRESH-INTERVAL;VALUE=DURATION:PT1H
X-Robots-Tag:noindex
X-PUBLISHED-TTL:PT1H
BEGIN:VTIMEZONE
TZID:UTC
BEGIN:STANDARD
TZOFFSETFROM:+0000
TZOFFSETTO:+0000
TZNAME:UTC
DTSTART:20230101T000000
END:STANDARD
END:VTIMEZONE
BEGIN:VEVENT
DTSTART;TZID=UTC:20240313T120000
DTEND;TZID=UTC:20240313T130000
DTSTAMP:20260421T230311
CREATED:20240201T194447Z
LAST-MODIFIED:20240213T191611Z
UID:788-1710331200-1710334800@qccommunityconnect.org
SUMMARY:Community Health Workers 101 (CHWs N' Action Webinar Series)
DESCRIPTION:Description:\n\n\n\nA community health worker (CHW) is a frontline public health worker who is a trusted member of and/or has an unusually close understanding of the community served. This trusting relationship enables the worker to serve as a liaison/link/intermediary between health/social services and the community to facilitate access to services and improve the quality and cultural competence of service delivery. A CHW also builds individual and community capacity by increasing health knowledge and self-sufficiency through a range of activities such as outreach\, community education\, informal counseling\, social support\, and advocacy. In practice\, CHW is an umbrella term and includes community health representatives\, promotors\, peers\, and other workforce members who are frontline public health professionals that share life experience\, trust\, compassion\, cultural and value alignment with the communities where they live and serve. CHWs are gaining recognition for the growing evidence that associates them with improved health outcomes. This orientation will explore why CHWs are an expanding profession and some of the benefits of their work. \n\n\n\n\n\n\n\n\n\nObjectives:\n\n\n\n\nDefine CHWs as a profession.\n\n\n\nIdentify CHW roles and competencies according to the CHW Core Consensus (C3) Project.\n\n\n\nDescribe the benefits of adding a CHW to a health and/or social care team.\n\n\n\nDistinguish how clinical and community CHWs may operate differently in practice and in scope\n\n\n\nIdentify how clinical and community settings can collaborate with CHWs.\n\n\n\n\n\n\n\n\n\n\nTarget Audience:\n\n\n\nNovice and Seasoned CHWs\, Practice Administrators\, Public Health Practitioners\, CHW Supervisors\, Health and Social Care Team Members\, Public Health Team Members\, Community and Clinically Integrated Networks\, and others interested in and/or engaged in improving population health. \n\n\n\n\n\n\n\n\n\n\n\n\nTHANK YOU TO OUR COMMUNITY PARTNERS\n\n\n\n\n\n\n\n\n\n\n\n\n\n\n\n\n\n\n\n\n\n\n\n\n\n\nREGISTER
URL:https://qccommunityconnect.org/events/community-health-workers-101-chws-n-action-webinar-series/
LOCATION:North Carolina
ATTACH;FMTTYPE=image/png:https://qccommunityconnect.org/wp-content/uploads/2024/02/CHW-N-Action-Part-1-Flyer-3.png
END:VEVENT
END:VCALENDAR