BEGIN:VCALENDAR
VERSION:2.0
PRODID:-//QC Community Connect - ECPv6.15.11//NONSGML v1.0//EN
CALSCALE:GREGORIAN
METHOD:PUBLISH
X-ORIGINAL-URL:https://qccommunityconnect.org
X-WR-CALDESC:Events for QC Community Connect
REFRESH-INTERVAL;VALUE=DURATION:PT1H
X-Robots-Tag:noindex
X-PUBLISHED-TTL:PT1H
BEGIN:VTIMEZONE
TZID:UTC
BEGIN:STANDARD
TZOFFSETFROM:+0000
TZOFFSETTO:+0000
TZNAME:UTC
DTSTART:20230101T000000
END:STANDARD
END:VTIMEZONE
BEGIN:VEVENT
DTSTART;TZID=UTC:20240515T080000
DTEND;TZID=UTC:20240515T170000
DTSTAMP:20260421T195916
CREATED:20240214T203959Z
LAST-MODIFIED:20240401T183103Z
UID:883-1715760000-1715792400@qccommunityconnect.org
SUMMARY:NCCHWA Community Health Worker Advocacy Day
DESCRIPTION:The North Carolina Community Health Worker Association (NCCHWA) invites you to join us on 5/15 from 9am-5pm at the state capitol in Raleigh for CHW Advocacy Day to educate our legislators about the CHW workforce and our impact on communities across NC. Join us to meet with your local representatives\, share your story\, and highlight the needs of your community.  \n\n\n\n \n\n\n\nYour legislators need to hear from you\, their constituents! We’ll provide contact info and scripts for how to contact your legislator\, training on how to engage with your legislator the day of\, and other resources that you can use to engage in legislative advocacy. Your stories are important and need to be heard\, and we are here to support you in lifting them up! Sign up here to join us in advocating for CHWs across NC. We can’t wait to see you in Raleigh on 5/15. Please share with your friends and colleagues and contact info@ncchwa.org with any questions. \n\n\n\n\nSign Up
URL:https://qccommunityconnect.org/events/ncchwa-community-health-worker-advocacy-day/
LOCATION:North Carolina
ATTACH;FMTTYPE=image/png:https://qccommunityconnect.org/wp-content/uploads/2024/02/Join-us-for-CHW-Advocacy-Day-1.png
END:VEVENT
END:VCALENDAR