BEGIN:VCALENDAR
VERSION:2.0
PRODID:-//QC Community Connect - ECPv6.15.11//NONSGML v1.0//EN
CALSCALE:GREGORIAN
METHOD:PUBLISH
X-WR-CALNAME:QC Community Connect
X-ORIGINAL-URL:https://qccommunityconnect.org
X-WR-CALDESC:Events for QC Community Connect
REFRESH-INTERVAL;VALUE=DURATION:PT1H
X-Robots-Tag:noindex
X-PUBLISHED-TTL:PT1H
BEGIN:VTIMEZONE
TZID:UTC
BEGIN:STANDARD
TZOFFSETFROM:+0000
TZOFFSETTO:+0000
TZNAME:UTC
DTSTART:20230101T000000
END:STANDARD
END:VTIMEZONE
BEGIN:VEVENT
DTSTART;TZID=UTC:20240604T110000
DTEND;TZID=UTC:20240604T121500
DTSTAMP:20260422T002844
CREATED:20231215T184344Z
LAST-MODIFIED:20240521T133354Z
UID:647-1717498800-1717503300@qccommunityconnect.org
SUMMARY:June Bi-Monthly Meeting
DESCRIPTION:Join us for our regular bi-monthly meeting! Email CHWl@MeckNC.gov to receive an invitation – we’ll send you the location of this month’s meeting.
URL:https://qccommunityconnect.org/events/june-bi-monthly-meeting/
LOCATION:North Carolina
ATTACH;FMTTYPE=image/png:https://qccommunityconnect.org/wp-content/uploads/2023/12/QC4JuneBimonthlyMeetingFlyer5.21.24.png
END:VEVENT
BEGIN:VEVENT
DTSTART;TZID=UTC:20240617T110000
DTEND;TZID=UTC:20240617T140000
DTSTAMP:20260422T002844
CREATED:20240529T151352Z
LAST-MODIFIED:20240529T171217Z
UID:2160-1718622000-1718632800@qccommunityconnect.org
SUMMARY:NCCHWA Region 3 Network Meeting
DESCRIPTION:The North Carolina Community Health Worker Association is excited to announce their first CHW network meetings across all 6 Medicaid regions of the state. Information about location and dates are on the QR code provided. NCCHWA’s goal is for CHWs to connect\, share\, and learn from others .  \n\n\n\nOur network meeting\, Region 3\, will take place on June 17th. \n\n\n\n\n\n\n\nRegister Now
URL:https://qccommunityconnect.org/events/ncchwa-region-3-network-meeting/
LOCATION:Goodwill Opportunity Campus  Bank of America Room  5301 Wilkinson Blvd  Charlotte\, NC 28208
ATTACH;FMTTYPE=image/png:https://qccommunityconnect.org/wp-content/uploads/2024/05/NCHWA-Regional-Meetings.png
END:VEVENT
BEGIN:VEVENT
DTSTART;TZID=UTC:20240806T110000
DTEND;TZID=UTC:20240806T123000
DTSTAMP:20260422T002844
CREATED:20231215T190617Z
LAST-MODIFIED:20240709T154329Z
UID:650-1722942000-1722947400@qccommunityconnect.org
SUMMARY:August Bi-Monthly Meeting
DESCRIPTION:Join us for our regular bi-monthly meeting! Email CHWl@MeckNC.gov to receive an invitation – we’ll send you the location of this month’s meeting.
URL:https://qccommunityconnect.org/events/august-bi-monthly-meeting/
LOCATION:North Carolina
ATTACH;FMTTYPE=image/png:https://qccommunityconnect.org/wp-content/uploads/2023/12/August.png
END:VEVENT
BEGIN:VEVENT
DTSTART;TZID=UTC:20241001T110000
DTEND;TZID=UTC:20241001T121500
DTSTAMP:20260422T002844
CREATED:20231215T192041Z
LAST-MODIFIED:20231215T192041Z
UID:653-1727780400-1727784900@qccommunityconnect.org
SUMMARY:October Bi-Monthly Meeting
DESCRIPTION:Join us for our regular bi-monthly meeting! Email CHWl@MeckNC.gov to receive an invitation – we’ll send you the location of this month’s meeting.
URL:https://qccommunityconnect.org/events/october-bi-monthly-meeting/
LOCATION:North Carolina
ATTACH;FMTTYPE=image/png:https://qccommunityconnect.org/wp-content/uploads/2023/12/October.png
END:VEVENT
BEGIN:VEVENT
DTSTART;TZID=UTC:20241115T093000
DTEND;TZID=UTC:20241115T153000
DTSTAMP:20260422T002844
CREATED:20240815T130856Z
LAST-MODIFIED:20241107T141400Z
UID:2350-1731663000-1731684600@qccommunityconnect.org
SUMMARY:2024 CHWI Annual Forum: Movers & Shakers CommUNITY Forum
DESCRIPTION:00Days00Hours00Minutes00Seconds\n\n\n\n\n\nDescription: Join us at the Movers & Shakers CommUNITy Forum\, a dynamic event that aims to bring together all community partners in the CHW ecosystem. This year’s forum will:   \n\n\n\n\nUnderstand how state and local partners are building community and strengthening the CHW workforce.   \n\n\n\n\n\nEngage participants in an interactive gallery walk showcasing our published comprehensive action plan\, also known as Cultivating Community Change Together: Mecklenburg County’s Community Health Worker Initiative Comprehensive Action Plan to Improve Access to Care.  \n\n\n\n\n\nExplore strategies on how to improve health outcomes in Mecklenburg County with the assistance of CHWs. \n\n\n\n\nDon’t miss this opportunity to engage in information sharing\, interactive activities\, and networking opportunities with Mecklenburg County’s CHW ecosystem!  
URL:https://qccommunityconnect.org/events/2024-chwi-annual-forum-movers-shakers-community-forum/
LOCATION:Goodwill Opportunity Campus  Bank of America Room  5301 Wilkinson Blvd  Charlotte\, NC 28208
ATTACH;FMTTYPE=image/png:https://qccommunityconnect.org/wp-content/uploads/2024/07/SAVE-THE-DATE-2024-CHWI-ANNUAL-FORUM-PNG.png
END:VEVENT
BEGIN:VEVENT
DTSTART;TZID=UTC:20241203T110000
DTEND;TZID=UTC:20241203T121500
DTSTAMP:20260422T002844
CREATED:20231215T192148Z
LAST-MODIFIED:20231215T192148Z
UID:658-1733223600-1733228100@qccommunityconnect.org
SUMMARY:December Bi-Monthly Meeting
DESCRIPTION:Join us for our regular bi-monthly meeting! Email CHWl@MeckNC.gov to receive an invitation – we’ll send you the location of this month’s meeting.
URL:https://qccommunityconnect.org/events/december-bi-monthly-meeting/
LOCATION:North Carolina
ATTACH;FMTTYPE=image/png:https://qccommunityconnect.org/wp-content/uploads/2023/12/December.png
END:VEVENT
BEGIN:VEVENT
DTSTART;TZID=UTC:20250204T110000
DTEND;TZID=UTC:20250204T123000
DTSTAMP:20260422T002844
CREATED:20241218T144426Z
LAST-MODIFIED:20241218T144428Z
UID:2583-1738666800-1738672200@qccommunityconnect.org
SUMMARY:February Bi-Monthly Meeting
DESCRIPTION:Join us for our regular bi-monthly meeting! \nEmail CHWl@MeckNC.gov to receive an invitation – we’ll send you the location of this month’s meeting.
URL:https://qccommunityconnect.org/events/february-bi-monthly-meeting-2/
LOCATION:North Carolina
ATTACH;FMTTYPE=image/png:https://qccommunityconnect.org/wp-content/uploads/2024/12/QC4-February-Meeting-Flyer-2025.png
END:VEVENT
BEGIN:VEVENT
DTSTART;TZID=UTC:20250408T110000
DTEND;TZID=UTC:20250408T123000
DTSTAMP:20260422T002844
CREATED:20241218T144455Z
LAST-MODIFIED:20241218T144457Z
UID:2589-1744110000-1744115400@qccommunityconnect.org
SUMMARY:April Bi-Monthly Meeting
DESCRIPTION:Join us for our regular bi-monthly meeting! \nEmail CHWl@MeckNC.gov to receive an invitation – we’ll send you the location of this month’s meeting.
URL:https://qccommunityconnect.org/events/april-bi-monthly-meeting-2/
LOCATION:2145 Suttle Ave\, Charlotte NC – LUSEA Building 4th Floor | Pine Room\, 2145 Suttle Avenue\, Charlotte\, North Carolina\, United States
ATTACH;FMTTYPE=image/png:https://qccommunityconnect.org/wp-content/uploads/2024/12/QC4-April-Meeting-Flyer-2025.png
END:VEVENT
BEGIN:VEVENT
DTSTART;TZID=UTC:20250603T110000
DTEND;TZID=UTC:20250603T123000
DTSTAMP:20260422T002844
CREATED:20241218T144609Z
LAST-MODIFIED:20250205T150300Z
UID:2588-1748948400-1748953800@qccommunityconnect.org
SUMMARY:June Bi-Monthly Meeting
DESCRIPTION:Join us for our regular bi-monthly meeting! \nEmail CHWl@MeckNC.gov to receive an invitation – we’ll send you the location of this month’s meeting.
URL:https://qccommunityconnect.org/events/june-bi-monthly-meeting-2/
LOCATION:2145 Suttle Ave\, Charlotte NC – LUSEA Building 4th Floor | Pine Room\, 2145 Suttle Avenue\, Charlotte\, North Carolina\, United States
ATTACH;FMTTYPE=image/png:https://qccommunityconnect.org/wp-content/uploads/2024/12/QC4-JuneMeeting-Flyer-2025.png
END:VEVENT
BEGIN:VEVENT
DTSTART;TZID=UTC:20250805T110000
DTEND;TZID=UTC:20250805T123000
DTSTAMP:20260422T002844
CREATED:20241218T144856Z
LAST-MODIFIED:20250205T150416Z
UID:2587-1754391600-1754397000@qccommunityconnect.org
SUMMARY:August Bi-Monthly Meeting
DESCRIPTION:Join us for our regular bi-monthly meeting! \nEmail CHWl@MeckNC.gov to receive an invitation – we’ll send you the location of this month’s meeting.
URL:https://qccommunityconnect.org/events/august-bi-monthly-meeting-2/
LOCATION:2145 Suttle Ave\, Charlotte NC – LUSEA Building 4th Floor | Pine Room\, 2145 Suttle Avenue\, Charlotte\, North Carolina\, United States
ATTACH;FMTTYPE=image/png:https://qccommunityconnect.org/wp-content/uploads/2024/12/QC4-August-Meeting-Flyer-2025.png
END:VEVENT
BEGIN:VEVENT
DTSTART;TZID=UTC:20251007T110000
DTEND;TZID=UTC:20251007T123000
DTSTAMP:20260422T002844
CREATED:20241218T144927Z
LAST-MODIFIED:20250205T150439Z
UID:2586-1759834800-1759840200@qccommunityconnect.org
SUMMARY:October Bi-Monthly Meeting
DESCRIPTION:Join us for our regular bi-monthly meeting! \nEmail CHWl@MeckNC.gov to receive an invitation – we’ll send you the location of this month’s meeting.
URL:https://qccommunityconnect.org/events/october-bi-monthly-meeting-2/
LOCATION:2145 Suttle Ave\, Charlotte NC – LUSEA Building 4th Floor | Pine Room\, 2145 Suttle Avenue\, Charlotte\, North Carolina\, United States
ATTACH;FMTTYPE=image/png:https://qccommunityconnect.org/wp-content/uploads/2024/12/QC4-October-Meeting-Flyer-2025.png
END:VEVENT
BEGIN:VEVENT
DTSTART;TZID=UTC:20251202T110000
DTEND;TZID=UTC:20251202T123000
DTSTAMP:20260422T002844
CREATED:20241218T144919Z
LAST-MODIFIED:20250205T150222Z
UID:2585-1764673200-1764678600@qccommunityconnect.org
SUMMARY:December Bi-Monthly Meeting
DESCRIPTION:Join us for our regular bi-monthly meeting! \nEmail CHWl@MeckNC.gov to receive an invitation – we’ll send you the location of this month’s meeting.
URL:https://qccommunityconnect.org/events/december-bi-monthly-meeting-2/
LOCATION:2145 Suttle Ave\, Charlotte NC – LUSEA Building 4th Floor | Pine Room\, 2145 Suttle Avenue\, Charlotte\, North Carolina\, United States
ATTACH;FMTTYPE=image/png:https://qccommunityconnect.org/wp-content/uploads/2024/12/QC4-December-Meeting-Flyer-2025.png
END:VEVENT
BEGIN:VEVENT
DTSTART;TZID=UTC:20260203T110000
DTEND;TZID=UTC:20260203T123000
DTSTAMP:20260422T002844
CREATED:20251215T163547Z
LAST-MODIFIED:20251215T163559Z
UID:3328-1770116400-1770121800@qccommunityconnect.org
SUMMARY:February Bi-Monthly Meeting
DESCRIPTION:Join us for our regular bi-monthly meeting! \nEmail CHWl@MeckNC.gov to receive an invitation – we’ll send you the location of this month’s meeting.
URL:https://qccommunityconnect.org/events/february2026/
LOCATION:North Carolina
ATTACH;FMTTYPE=image/png:https://qccommunityconnect.org/wp-content/uploads/2025/12/February-2026-Flyer.png
END:VEVENT
BEGIN:VEVENT
DTSTART;TZID=UTC:20260407T110000
DTEND;TZID=UTC:20260407T123000
DTSTAMP:20260422T002844
CREATED:20251215T163729Z
LAST-MODIFIED:20260408T181536Z
UID:3329-1775559600-1775565000@qccommunityconnect.org
SUMMARY:April Bi-Monthly Meeting
DESCRIPTION:Join us for our regular bi-monthly meeting! \nEmail CHWl@MeckNC.gov to receive an invitation – we’ll send you the location of this month’s meeting.
URL:https://qccommunityconnect.org/events/april2026/
LOCATION:Valerie C. Woodward Center – Entrance E – Conference Center Auditorium  3205 Freedom Dr\, Charlotte\, NC 28208\, 3205 Freedom Dr\, Charlotte\, NC 28208\, Charlotte\, North Carolina\, 28208\, United States
ATTACH;FMTTYPE=image/png:https://qccommunityconnect.org/wp-content/uploads/2025/12/April-2026-Flyer-1.png
END:VEVENT
BEGIN:VEVENT
DTSTART;TZID=UTC:20260602T110000
DTEND;TZID=UTC:20260602T123000
DTSTAMP:20260422T002844
CREATED:20251215T163900Z
LAST-MODIFIED:20260408T181123Z
UID:3330-1780398000-1780403400@qccommunityconnect.org
SUMMARY:June Bi-Monthly Meeting
DESCRIPTION:Join us for our regular bi-monthly meeting! \nEmail CHWl@MeckNC.gov to receive an invitation – we’ll send you the location of this month’s meeting.
URL:https://qccommunityconnect.org/events/june-2026/
LOCATION:2145 Suttle Ave\, Charlotte NC – LUSEA Building 4th Floor | Pine Room\, 2145 Suttle Avenue\, Charlotte\, North Carolina\, United States
ATTACH;FMTTYPE=image/png:https://qccommunityconnect.org/wp-content/uploads/2025/12/June-2026-Flyer-1.png
END:VEVENT
BEGIN:VEVENT
DTSTART;TZID=UTC:20260804T110000
DTEND;TZID=UTC:20260804T123000
DTSTAMP:20260422T002844
CREATED:20251215T164038Z
LAST-MODIFIED:20251215T164051Z
UID:3331-1785841200-1785846600@qccommunityconnect.org
SUMMARY:August Bi-Monthly Meeting
DESCRIPTION:Join us for our regular bi-monthly meeting! \nEmail CHWl@MeckNC.gov to receive an invitation – we’ll send you the location of this month’s meeting.
URL:https://qccommunityconnect.org/events/august2026/
LOCATION:2145 Suttle Ave\, Charlotte NC – LUSEA Building 4th Floor | Pine Room\, 2145 Suttle Avenue\, Charlotte\, North Carolina\, United States
ATTACH;FMTTYPE=image/png:https://qccommunityconnect.org/wp-content/uploads/2025/12/August-2026-Flyer.png
END:VEVENT
BEGIN:VEVENT
DTSTART;TZID=UTC:20261006T110000
DTEND;TZID=UTC:20261006T123000
DTSTAMP:20260422T002844
CREATED:20251215T164131Z
LAST-MODIFIED:20251215T164213Z
UID:3332-1791284400-1791289800@qccommunityconnect.org
SUMMARY:October Bi-Monthly Meeting
DESCRIPTION:Join us for our regular bi-monthly meeting! \nEmail CHWl@MeckNC.gov to receive an invitation – we’ll send you the location of this month’s meeting.
URL:https://qccommunityconnect.org/events/october2026/
LOCATION:2145 Suttle Ave\, Charlotte NC – LUSEA Building 4th Floor | Pine Room\, 2145 Suttle Avenue\, Charlotte\, North Carolina\, United States
ATTACH;FMTTYPE=image/png:https://qccommunityconnect.org/wp-content/uploads/2025/12/October-2026-Flyer.png
END:VEVENT
BEGIN:VEVENT
DTSTART;TZID=UTC:20261201T110000
DTEND;TZID=UTC:20261201T123000
DTSTAMP:20260422T002844
CREATED:20251215T164423Z
LAST-MODIFIED:20251215T164434Z
UID:3333-1796122800-1796128200@qccommunityconnect.org
SUMMARY:December Bi-Monthly Meeting
DESCRIPTION:Join us for our regular bi-monthly meeting! \nEmail CHWl@MeckNC.gov to receive an invitation – we’ll send you the location of this month’s meeting.
URL:https://qccommunityconnect.org/events/december2026/
LOCATION:2145 Suttle Ave\, Charlotte NC – LUSEA Building 4th Floor | Pine Room\, 2145 Suttle Avenue\, Charlotte\, North Carolina\, United States
ATTACH;FMTTYPE=image/png:https://qccommunityconnect.org/wp-content/uploads/2025/12/December-2026-Flyer-1.png
END:VEVENT
END:VCALENDAR