BEGIN:VCALENDAR
VERSION:2.0
PRODID:-//QC Community Connect - ECPv6.15.11//NONSGML v1.0//EN
CALSCALE:GREGORIAN
METHOD:PUBLISH
X-ORIGINAL-URL:https://qccommunityconnect.org
X-WR-CALDESC:Events for QC Community Connect
REFRESH-INTERVAL;VALUE=DURATION:PT1H
X-Robots-Tag:noindex
X-PUBLISHED-TTL:PT1H
BEGIN:VTIMEZONE
TZID:UTC
BEGIN:STANDARD
TZOFFSETFROM:+0000
TZOFFSETTO:+0000
TZNAME:UTC
DTSTART:20230101T000000
END:STANDARD
END:VTIMEZONE
BEGIN:VEVENT
DTSTART;TZID=UTC:20240125T120000
DTEND;TZID=UTC:20240125T130000
DTSTAMP:20260422T002647
CREATED:20240110T160342Z
LAST-MODIFIED:20240110T160342Z
UID:727-1706184000-1706187600@qccommunityconnect.org
SUMMARY:Virtual Governing Board Elections Interest Meeting
DESCRIPTION:Join us for our upcoming Virtual Governing Board Elections Interest Meeting that will be hosted on January 25th\, 2024\, from 12:00-1:00PM. Gain insights into the election and nomination process\, responsibilities of each position\, and learn from the experiences of our current Governing Board members. This session is an invaluable opportunity to understand how your involvement can contribute to the success of Queen City Community Connect Coalition.  \n\n\n\nE-Mail CHWI@MeckNC.Gov for a calendar invite!
URL:https://qccommunityconnect.org/events/virtual-governing-board-elections-interest-meeting/
LOCATION:North Carolina
ATTACH;FMTTYPE=image/png:https://qccommunityconnect.org/wp-content/uploads/2024/01/GB-Elections-Interest-Meeting-Flyer.png
END:VEVENT
END:VCALENDAR